{"text_format":"2","workbook":"xlsx","n_sheets":7,"sheets":["INFO","MELDUNG","RECHNUNG","WIEGELISTE","AUFSTELLUNG","AKKREDITIERUNG","IMPORT"],"not_rendered":{"charts":0,"images":5,"macros":0,"external_links":0,"defined_names":9,"comments":0,"pivot_tables":0},"unopened":[],"bounds":{"document_bytes":16777216,"sheet_cells":100000,"run_cost":"one","rows_first":2000,"rows_last":500,"rows_between":2000,"halvings":0,"cell_chars":16384,"cell_head_chars":4096},"cells_cut":0,"cells_raw":0,"read":"whole","date_system":"1900"}

{"sheet":"INFO","index":0,"n_rows":30,"n_cols":1,"rows_kept":30,"cut":false,"hidden":false,"merged":[]}
["INFORMATIONEN ZUR MELDUNG ZUM DEUTSCHEN JUGEND-POKAL BZW. ZU DIESER DATEI"]
["Bitte unbedingt zuerst lesen!"]
[]
["Diese Arbeitsmappe besteht aus den Reitern:"]
["* Info (diese Seite)"]
["* Meldung"]
["* Rechnung"]
["* Wiegeliste"]
["* Aufstellung"]
["* Akkreditierung"]
["* Import"]
[]
[]
["Auszufüllen ist nur der Reiter \"Meldung\"!!! Alle anderen notwendigen Reiter werden automatisch ausgefüllt."]
["Dabei bitte die Informationen in allen bearbeitbaren Felder auswählen(!) (Dropdown-Menü - türkise Felder) bzw."]
["in alle bearbeitbaren Felden eintragen(!) (gelbe Felder)."]
["Hierbei sorgfältig vorgehen."]
["Danach diese gesamte Datei als Excel-Datei (*.xls oder *.xlsx) bis 28.11.2023 an den DJB mailen: KLinnebacher@judobund.de"]
[]
["Über den Reiter \"Rechnung\" kann sich der meldende Verein gleich eine Rechnung ausdrucken. "]
["Diese ist bis zum 28.11.2023 auf das angegebene Konto des DJB zu überweisen."]
[]
["Die Reiter \"Wiegeliste\" und \"Aufstellung\" werden erst bei der Veranstaltung vor Ort benötigt"]
["und bei der Akkreditierung bzw. nach der Waage verteilt werden."]
[]
["Der Reiter \"Akkreditierung\" wird für den Druck der Akkreditierungen verwendet."]
["Der Reiter \"Import\" wird für den Datenimport in die Wettkampf-Software benötigt."]
[]
[]
["Bei Fragen wenden Sie sich bitte an den DJB, Kim Linnebacher oder Zentrale (djb@judobund.de oder klinnebacher@judobund.de)."]

{"sheet":"MELDUNG","index":1,"n_rows":58,"n_cols":9,"rows_kept":58,"cut":false,"hidden":false,"merged":[[47,2,47,3],[48,2,48,3],[46,4,46,5],[47,4,47,5],[48,4,48,5],[20,1,20,6],[57,2,57,3],[49,4,49,5],[50,4,50,5],[51,4,51,5],[51,2,51,3],[50,2,50,3],[49,2,49,3],[53,4,53,5],[52,4,52,5],[52,2,52,3],[53,2,53,3],[54,2,54,3],[55,2,55,3],[56,2,56,3],[46,2,46,3],[21,2,21,5],[22,2,22,5],[24,2,24,5],[45,4,45,5],[26,0,26,8],[27,0,27,8],[45,2,45,3],[29,2,30,6],[32,2,32,6],[33,2,33,6],[34,2,34,6],[35,2,35,6],[36,2,36,6],[40,7,41,7],[57,4,57,5],[56,4,56,5],[55,4,55,5],[54,4,54,5],[38,2,38,6],[40,2,40,4],[41,2,41,4],[41,5,41,6],[40,5,40,6]]}
["LV","Platz","AK","Jahrgang",null,"männlich","weiblich","Entscheidung"]
["BA",1,"U15",2009,null,"-40 kg","-40 kg","ja"]
["BB",2,null,2010,null,"-46 kg","-48 kg","nein"]
["BE",3,null,2011,null,"-55 kg","-57 kg"]
["BY",{"$nulls":4},"-66 kg","-63 kg"]
["HB",{"$nulls":4},"+66 kg","+63 kg"]
["HE"]
["HH",{"$nulls":4},64,61]
["MV"]
["NS"]
["NW"]
["PF"]
["RL"]
["SA"]
["SH"]
["SN"]
["ST"]
["TH"]
["WÜ"]
[]
[null,"Deutsche-Vereins-Mannschaftsmeisterschaft U15"]
[null,null,"(Deutscher Jugend-Pokal)"]
[null,null,"09.12.2023 Senftenberg"]
[]
[null,null,"M E L D U N G"]
[]
["Die Meldung digital ausfüllen & als Excel-Datei bis zum 28.11.2023 an Klinnebacher@judobund.de zurückschicken."]
["Gleichzeitig ist die Rechnung (siehe Reiter: RECHNUNG) an den Deutschen Judo-Bund e.V. zu überweisen."]
[]
["Name des Vereins/",{"$nulls":7},"Geschlecht:"]
["der KG:"]
[]
["Verantwortlicher:",{"$nulls":7},"Landesverb.:"]
["Straße + Nr.:"]
["PLZ + Ort:",{"$nulls":7},"Platz LE:"]
["E-Mail:"]
["Mobil-Telefon:"]
[]
["Akkreditierungstag:"]
[]
["Judogifarbe*:",null,"Jacke:",null,null,"Hose:",null,"*falls in weiß/blau gekämpft wird kann alternativ eine Mannschaftsfarbe angegeben werden."]
[]
[]
["M A N N S C H A F T S M I T G L I E D E R"]
[]
["lfd. Nr.","Gew.-Kl.","Name",null,"Vorname",null,"Jahrgang","Verein (gem. Einzelstartrecht)"]
[1]
[2]
[3]
[4]
[5]
[6]
[7]
[8]
[9]
[10]
[11,"Betreuer"]
[12,"Betreuer"]

{"sheet":"RECHNUNG","index":2,"n_rows":51,"n_cols":5,"rows_kept":51,"cut":false,"hidden":false,"merged":[[15,0,15,4],[17,0,17,4],[43,2,43,4],[18,0,18,4]]}
[]
[]
[]
[]
[]
[]
["Deutscher-Judo-Bund e.V. - Otto-Fleck-Schneise 12 - 60528 Frankfurt am Main"]
[]
[{"$f":"MELDUNG!C30","v":0}]
[{"$f":"MELDUNG!C33","v":0}]
[{"$f":"MELDUNG!C34","v":0}]
[{"$f":"MELDUNG!C35","v":0}]
[]
[]
[]
["RECHNUNG"]
[]
[{"$f":"MELDUNG!B21 &\" \"& MELDUNG!I31","v":"Deutsche-Vereins-Mannschaftsmeisterschaft U15 "}]
[{"$f":"\" am \"&MELDUNG!C22&\" in \"&MELDUNG!C23","v":" am (Deutscher Jugend-Pokal) in 09.12.2023 Senftenberg"}]
[]
[]
[]
["Pos.","Artikel","Menge","E-Preis","G-Preis"]
[]
[1,"Startgeld",1,90,90]
[5,"Abendessen 30.11.2018",{"$f":"MELDUNG!#REF!","v":{"$error":"#REF!"}},8,{"$f":"D26*C26","v":{"$error":"#REF!"}}]
[6,"Abendessen 01.12.2018",{"$f":"MELDUNG!#REF!","v":{"$error":"#REF!"}},8,{"$f":"D27*C27","v":{"$error":"#REF!"}}]
[]
[null,null,null,"Endbetrag:",{"$f":"SUM(E25)","v":90}]
[]
[]
[]
["Zahlung bitte bis 28.11.2023 auf das Konto"]
[null,"Deutscher Judo-Bund e.V."]
[null,"Deutsche Bank Mainz"]
[null,"IBAN: DE15 5507 0024 0062 0179 00"]
[null,"BIC: DEUTDEDBMAI"]
[null,"Verwendungszweck:"]
[null,{"$f":"\"DJP U15, \"&MELDUNG!C30&\", \"&MELDUNG!I31","v":"DJP U15, , "}]
[]
[]
[]
["Betrag dankend erhalten am: "]
[null,null,"Deutscher Judo-Bund e.V."]
[]
[]
[]
[]
[]
[]
[{"$nulls":4},{"$f":"MELDUNG!I34 & \" \" & MELDUNG!I36 & \" \" & MELDUNG!I31","v":"  "}]

{"sheet":"WIEGELISTE","index":3,"n_rows":53,"n_cols":9,"rows_kept":53,"cut":false,"hidden":false,"merged":[[33,1,33,2],[33,3,33,4],[35,1,35,2],[35,3,35,4],[0,2,0,5],[1,2,1,5],[2,2,2,5],[4,2,4,5],[7,0,9,7],[11,0,13,4],[37,1,37,2],[37,3,37,4],[38,1,38,2],[38,3,38,4],[34,1,34,2],[34,3,34,4],[36,1,36,2],[36,3,36,4],[52,0,52,2],[52,6,52,8],[42,1,42,2],[42,3,42,4],[43,1,43,2],[43,3,43,4],[45,0,47,4],[39,1,39,2],[39,3,39,4],[40,1,40,2],[40,3,40,4],[41,1,41,2],[41,3,41,4]]}
[null,null,{"$f":"MELDUNG!B21","v":"Deutsche-Vereins-Mannschaftsmeisterschaft U15"}]
[null,null,{"$f":"MELDUNG!C22","v":"(Deutscher Jugend-Pokal)"}]
[null,null,{"$f":"MELDUNG!C23","v":"09.12.2023 Senftenberg"}]
[]
[null,null,"W I E G E L I S T E"]
[]
[]
[{"$f":"MELDUNG!C30","v":0},{"$nulls":7},{"$f":"MELDUNG!I31","v":0}]
[{"$nulls":8},{"$f":"MELDUNG!I34","v":0}]
[{"$nulls":8},{"$f":"MELDUNG!I36","v":0}]
[]
["Nur für KG:   Anzahl der Kämpfer aus …",{"$nulls":4},"Verein 1:",null,"Verein 2:"]
[]
[]
[]
[]
[{"$f":"\"Jahrgänge:   \"& MELDUNG!D2 & \", \" & MELDUNG!D3 & \" und \" & MELDUNG!D4","v":"Jahrgänge:   2009, 2010 und 2011"}]
[{"$f":"MELDUNG!C2&\"m:   \"&MELDUNG!F2&\", \"&MELDUNG!F3&\", \"&MELDUNG!F4&\", \"&MELDUNG!F5&\" und \"&MELDUNG!F6&\"\"","v":"U15m:   -40 kg, -46 kg, -55 kg, -66 kg und +66 kg"}]
[{"$f":"MELDUNG!C2&\"w:   \"&MELDUNG!G2&\", \"&MELDUNG!G3&\", \"&MELDUNG!G4&\", \"&MELDUNG!G5&\" und \"&MELDUNG!G6&\"\"","v":"U15w:   -40 kg, -48 kg, -57 kg, -63 kg und +63 kg"}]
[]
["- Jeder Judoka kann nur in der dem tatsächlichen Körpergewicht entsprechenden Gewichtsklasse eingewogen werden."]
["- Beim Wiegen müssen Jungen eine Unterhose und Mädchen eine Unterhose und ein T-Shirt tragen. Gewichtstoleranz 100 g."]
["- Es können maximal 10 Judoka eingewogen werden. Dabei ist die Anzahl der Judoka pro Gewichtsklasse nicht beschränkt."]
[]
["Zu prüfen sind:"]
["- Die Identität."]
["- Das Alter."]
["- Die Startberechtigung: aktuelle Einzelstartberechtigung des meldenden Vereins."]
["- Die Mindestgraduierung: 7. Kyu (Gelbgurt).",{"$nulls":5},"Auswiegen bei"]
["- Die Beitragsmarke.",{"$nulls":5},{"$f":"MELDUNG!F5 &\" (männl.)\"","v":"-66 kg (männl.)"}]
["Nicht zu prüfen ist die DJB-Wettkampflizenz.",{"$nulls":5},{"$f":"MELDUNG!G5&\" (weibl.)\"","v":"-63 kg (weibl.)"}]
[]
[]
["Gew.-Kl.","Name",null,"Vorname",null,"Jahrgang","Gewicht\nOK","Pass\nOK","ggfs.\nBemerkung"]
[{"$f":"MELDUNG!B47","v":0},{"$f":"MELDUNG!C47","v":0},null,{"$f":"MELDUNG!E47","v":0},null,{"$f":"MELDUNG!G47","v":0}]
[{"$f":"MELDUNG!B48","v":0},{"$f":"MELDUNG!C48","v":0},null,{"$f":"MELDUNG!E48","v":0},null,{"$f":"MELDUNG!G48","v":0}]
[{"$f":"MELDUNG!B49","v":0},{"$f":"MELDUNG!C49","v":0},null,{"$f":"MELDUNG!E49","v":0},null,{"$f":"MELDUNG!G49","v":0}]
[{"$f":"MELDUNG!B50","v":0},{"$f":"MELDUNG!C50","v":0},null,{"$f":"MELDUNG!E50","v":0},null,{"$f":"MELDUNG!G50","v":0}]
[{"$f":"MELDUNG!B51","v":0},{"$f":"MELDUNG!C51","v":0},null,{"$f":"MELDUNG!E51","v":0},null,{"$f":"MELDUNG!G51","v":0}]
[{"$f":"MELDUNG!B52","v":0},{"$f":"MELDUNG!C52","v":0},null,{"$f":"MELDUNG!E52","v":0},null,{"$f":"MELDUNG!G52","v":0}]
[{"$f":"MELDUNG!B53","v":0},{"$f":"MELDUNG!C53","v":0},null,{"$f":"MELDUNG!E53","v":0},null,{"$f":"MELDUNG!G53","v":0}]
[{"$f":"MELDUNG!B54","v":0},{"$f":"MELDUNG!C54","v":0},null,{"$f":"MELDUNG!E54","v":0},null,{"$f":"MELDUNG!G54","v":0}]
[{"$f":"MELDUNG!B55","v":0},{"$f":"MELDUNG!C55","v":0},null,{"$f":"MELDUNG!E55","v":0},null,{"$f":"MELDUNG!G55","v":0}]
[{"$f":"MELDUNG!B56","v":0},{"$f":"MELDUNG!C56","v":0},null,{"$f":"MELDUNG!E56","v":0},null,{"$f":"MELDUNG!G56","v":0}]
[]
["Wir kämpfen in folgenden Judogi-Farben:",{"$nulls":4},"Jacke:",null,"Hose:"]
[]
[]
[]
[]
[]
[]
["Unterschrift Verein",{"$nulls":5},"Unterschrift Kampfrichter"]

{"sheet":"AUFSTELLUNG","index":4,"n_rows":40,"n_cols":9,"rows_kept":40,"cut":false,"hidden":false,"merged":[[23,2,23,3],[23,4,23,5],[12,0,12,8],[0,2,0,5],[1,2,1,5],[2,2,2,5],[4,2,4,5],[7,0,9,7],[20,1,20,8],[21,1,21,8],[24,2,24,3],[24,4,24,5],[25,2,25,3],[25,4,25,5],[26,2,26,3],[26,4,26,5],[33,2,33,3],[33,4,33,5],[39,3,39,5],[14,0,16,8],[30,2,30,3],[30,4,30,5],[31,2,31,3],[31,4,31,5],[32,2,32,3],[32,4,32,5],[27,2,27,3],[27,4,27,5],[28,2,28,3],[28,4,28,5],[29,2,29,3],[29,4,29,5]]}
[null,null,{"$f":"MELDUNG!B21","v":"Deutsche-Vereins-Mannschaftsmeisterschaft U15"}]
[null,null,{"$f":"MELDUNG!C22","v":"(Deutscher Jugend-Pokal)"}]
[null,null,{"$f":"MELDUNG!C23","v":"09.12.2023 Senftenberg"}]
[]
[null,null,"A U F S T E L L U N G"]
[]
[]
[{"$f":"MELDUNG!C30","v":0},{"$nulls":7},{"$f":"MELDUNG!I31","v":0}]
[{"$nulls":8},{"$f":"MELDUNG!I34","v":0}]
[{"$nulls":8},{"$f":"MELDUNG!I36","v":0}]
[]
[]
["GEGEN"]
{"$rows_empty":7}
[null,"Zu jedem Mannschaftskampf müssen mindestens 3 Gewichtsklassen besetzt sein."]
[null,"Ein Hochstellen in die nächsthöhere Gewichtsklasse ist grds. zulässig (Mindestgewicht beachten)."]
[]
[null,"Einge-\nwogen","Name",null,"Vorname",null,"Jahrgang","eintragen:\nGEW.-KL.","ankreuzen:\nHOCHGEST."]
[null,{"$f":"MELDUNG!B47","v":0},{"$f":"MELDUNG!C47","v":0},null,{"$f":"MELDUNG!E47","v":0},null,{"$f":"MELDUNG!G47","v":0},{"$f":"IF(B25=0,\"===\",\" \")","v":"==="},{"$f":"IF(B25=MELDUNG!F5,IF(WIEGELISTE!G35<MELDUNG!F8,\"===\",\" \"),IF(B25=MELDUNG!G5,IF(WIEGELISTE!G35<MELDUNG!G8,\"===\",\" \"),IF(B25<>0,\" \",\"===\")))","v":"==="}]
[null,{"$f":"MELDUNG!B48","v":0},{"$f":"MELDUNG!C48","v":0},null,{"$f":"MELDUNG!E48","v":0},null,{"$f":"MELDUNG!G48","v":0},{"$f":"IF(B26=0,\"===\",\" \")","v":"==="},{"$f":"IF(B26=MELDUNG!F5,IF(WIEGELISTE!G36<MELDUNG!F8,\"===\",\" \"),IF(B26=MELDUNG!G5,IF(WIEGELISTE!G36<MELDUNG!G8,\"===\",\" \"),IF(B26<>0,\" \",\"===\")))","v":"==="}]
[null,{"$f":"MELDUNG!B49","v":0},{"$f":"MELDUNG!C49","v":0},null,{"$f":"MELDUNG!E49","v":0},null,{"$f":"MELDUNG!G49","v":0},"===",{"$f":"IF(B27=MELDUNG!F5,IF(WIEGELISTE!G37<MELDUNG!F8,\"===\",\" \"),IF(B27=MELDUNG!G5,IF(WIEGELISTE!G37<MELDUNG!G8,\"===\",\" \"),IF(B27<>0,\" \",\"===\")))","v":"==="}]
[null,{"$f":"MELDUNG!B50","v":0},{"$f":"MELDUNG!C50","v":0},null,{"$f":"MELDUNG!E50","v":0},null,{"$f":"MELDUNG!G50","v":0},"===",{"$f":"IF(B28=MELDUNG!F5,IF(WIEGELISTE!G38<MELDUNG!F8,\"===\",\" \"),IF(B28=MELDUNG!G5,IF(WIEGELISTE!G38<MELDUNG!G8,\"===\",\" \"),IF(B28<>0,\" \",\"===\")))","v":"==="}]
[null,{"$f":"MELDUNG!B51","v":0},{"$f":"MELDUNG!C51","v":0},null,{"$f":"MELDUNG!E51","v":0},null,{"$f":"MELDUNG!G51","v":0},"===",{"$f":"IF(B29=MELDUNG!F5,IF(WIEGELISTE!G39<MELDUNG!F8,\"===\",\" \"),IF(B29=MELDUNG!G5,IF(WIEGELISTE!G39<MELDUNG!G8,\"===\",\" \"),IF(B29<>0,\" \",\"===\")))","v":"==="}]
[null,{"$f":"MELDUNG!B52","v":0},{"$f":"MELDUNG!C52","v":0},null,{"$f":"MELDUNG!E52","v":0},null,{"$f":"MELDUNG!G52","v":0},"===",{"$f":"IF(B30=MELDUNG!F5,IF(WIEGELISTE!G40<MELDUNG!F8,\"===\",\" \"),IF(B30=MELDUNG!G5,IF(WIEGELISTE!G40<MELDUNG!G8,\"===\",\" \"),IF(B30<>0,\" \",\"===\")))","v":"==="}]
[null,{"$f":"MELDUNG!B53","v":0},{"$f":"MELDUNG!C53","v":0},null,{"$f":"MELDUNG!E53","v":0},null,{"$f":"MELDUNG!G53","v":0},"===",{"$f":"IF(B31=MELDUNG!F5,IF(WIEGELISTE!G41<MELDUNG!F8,\"===\",\" \"),IF(B31=MELDUNG!G5,IF(WIEGELISTE!G41<MELDUNG!G8,\"===\",\" \"),\"===\"))","v":"==="}]
[null,{"$f":"MELDUNG!B54","v":0},{"$f":"MELDUNG!C54","v":0},null,{"$f":"MELDUNG!E54","v":0},null,{"$f":"MELDUNG!G54","v":0},"===",{"$f":"IF(B32=MELDUNG!F5,IF(WIEGELISTE!G42<MELDUNG!F8,\"===\",\" \"),IF(B32=MELDUNG!G5,IF(WIEGELISTE!G42<MELDUNG!G8,\"===\",\" \"),IF(B32<>0,\" \",\"===\")))","v":"==="}]
[null,{"$f":"MELDUNG!B55","v":0},{"$f":"MELDUNG!C55","v":0},null,{"$f":"MELDUNG!E55","v":0},null,{"$f":"MELDUNG!G55","v":0},"===",{"$f":"IF(B33=MELDUNG!F5,IF(WIEGELISTE!G43<MELDUNG!F8,\"===\",\" \"),IF(B33=MELDUNG!G5,IF(WIEGELISTE!G43<MELDUNG!G8,\"===\",\" \"),IF(B33<>0,\" \",\"===\")))","v":"==="}]
[null,{"$f":"MELDUNG!B56","v":0},{"$f":"MELDUNG!C56","v":0},null,{"$f":"MELDUNG!E56","v":0},null,{"$f":"MELDUNG!G56","v":0},"===",{"$f":"IF(B34=MELDUNG!F5,IF(WIEGELISTE!G44<MELDUNG!F8,\"===\",\" \"),IF(B34=MELDUNG!G5,IF(WIEGELISTE!G44<MELDUNG!G8,\"===\",\" \"),IF(B34<>0,\" \",\"===\")))","v":"==="}]
[]
[]
[]
[]
[]
[null,null,null,"Unterschrift Verein"]

{"sheet":"AKKREDITIERUNG","index":5,"n_rows":13,"n_cols":7,"rows_kept":13,"cut":false,"hidden":false,"merged":[]}
["Geschlecht","Verband","Platz LE","Verein/KG","Gew.-Kl.","Name","Vorname"]
[{"$f":"MELDUNG!I31","v":0},{"$f":"MELDUNG!I34","v":0},{"$f":"MELDUNG!I36","v":0},{"$f":"MELDUNG!C30","v":0},{"$f":"MELDUNG!B47","v":0},{"$f":"MELDUNG!C47","v":0},{"$f":"MELDUNG!E47","v":0}]
[{"$f":"A2","v":0},0,0,0,{"$f":"MELDUNG!B48","v":0},{"$f":"MELDUNG!C48","v":0},{"$f":"MELDUNG!E48","v":0}]
[0,0,0,0,{"$f":"MELDUNG!B49","v":0},{"$f":"MELDUNG!C49","v":0},{"$f":"MELDUNG!E49","v":0}]
[0,0,0,0,{"$f":"MELDUNG!B50","v":0},{"$f":"MELDUNG!C50","v":0},{"$f":"MELDUNG!E50","v":0}]
[0,0,0,0,{"$f":"MELDUNG!B51","v":0},{"$f":"MELDUNG!C51","v":0},{"$f":"MELDUNG!E51","v":0}]
[0,0,0,0,{"$f":"MELDUNG!B52","v":0},{"$f":"MELDUNG!C52","v":0},{"$f":"MELDUNG!E52","v":0}]
[0,0,0,0,{"$f":"MELDUNG!B53","v":0},{"$f":"MELDUNG!C53","v":0},{"$f":"MELDUNG!E53","v":0}]
[0,0,0,0,{"$f":"MELDUNG!B54","v":0},{"$f":"MELDUNG!C54","v":0},{"$f":"MELDUNG!E54","v":0}]
[0,0,0,0,{"$f":"MELDUNG!B55","v":0},{"$f":"MELDUNG!C55","v":0},{"$f":"MELDUNG!E55","v":0}]
[0,0,0,0,{"$f":"MELDUNG!B56","v":0},{"$f":"MELDUNG!C56","v":0},{"$f":"MELDUNG!E56","v":0}]
[{"$f":"A10","v":0},0,0,{"$f":"D11","v":0},{"$f":"MELDUNG!B57","v":"Betreuer"},{"$f":"MELDUNG!C57","v":0},{"$f":"MELDUNG!E57","v":0}]
[0,0,0,{"$f":"D12","v":0},{"$f":"MELDUNG!B58","v":"Betreuer"},{"$f":"MELDUNG!C58","v":0},{"$f":"MELDUNG!E58","v":0}]

{"sheet":"IMPORT","index":6,"n_rows":11,"n_cols":8,"rows_kept":11,"cut":false,"hidden":false,"merged":[]}
["Geschlecht","Verband","Platz","Verein","Gew.-Kl.","Name","Vorname","Jahrgang"]
[{"$f":"MELDUNG!I31","v":0},{"$f":"MELDUNG!I34","v":0},{"$f":"MELDUNG!I36","v":0},{"$f":"MELDUNG!C30","v":0},{"$f":"MELDUNG!B47","v":0},{"$f":"MELDUNG!C47","v":0},{"$f":"MELDUNG!E47","v":0},{"$f":"MELDUNG!G47","v":0}]
[{"$f":"A2","v":0},{"$f":"B2","v":0},{"$f":"C2","v":0},{"$f":"D2","v":0},{"$f":"MELDUNG!B48","v":0},{"$f":"MELDUNG!C48","v":0},{"$f":"MELDUNG!E48","v":0},{"$f":"MELDUNG!G48","v":0}]
[0,0,0,0,{"$f":"MELDUNG!B49","v":0},{"$f":"MELDUNG!C49","v":0},{"$f":"MELDUNG!E49","v":0},{"$f":"MELDUNG!G49","v":0}]
[0,0,0,0,{"$f":"MELDUNG!B50","v":0},{"$f":"MELDUNG!C50","v":0},{"$f":"MELDUNG!E50","v":0},{"$f":"MELDUNG!G50","v":0}]
[0,0,0,0,{"$f":"MELDUNG!B51","v":0},{"$f":"MELDUNG!C51","v":0},{"$f":"MELDUNG!E51","v":0},{"$f":"MELDUNG!G51","v":0}]
[0,0,0,0,{"$f":"MELDUNG!B52","v":0},{"$f":"MELDUNG!C52","v":0},{"$f":"MELDUNG!E52","v":0},{"$f":"MELDUNG!G52","v":0}]
[0,0,0,0,{"$f":"MELDUNG!B53","v":0},{"$f":"MELDUNG!C53","v":0},{"$f":"MELDUNG!E53","v":0},{"$f":"MELDUNG!G53","v":0}]
[0,0,0,0,{"$f":"MELDUNG!B54","v":0},{"$f":"MELDUNG!C54","v":0},{"$f":"MELDUNG!E54","v":0},{"$f":"MELDUNG!G54","v":0}]
[0,0,0,0,{"$f":"MELDUNG!B55","v":0},{"$f":"MELDUNG!C55","v":0},{"$f":"MELDUNG!E55","v":0},{"$f":"MELDUNG!G55","v":0}]
[0,0,0,0,{"$f":"MELDUNG!B56","v":0},{"$f":"MELDUNG!C56","v":0},{"$f":"MELDUNG!E56","v":0},{"$f":"MELDUNG!G56","v":0}]